BEGIN:VCALENDAR
VERSION:2.0
PRODID:SchoolNow
CALSCALE:GREGORIAN
BEGIN:VEVENT
UID:1c4bcebc-00a8-11ef-9602-0a58a9feac02
DTSTAMP:20240422T125910Z
SUMMARY:Special Meeting
LOCATION:Hinsdale School
URL;VALUE=URI:https://www.winchesterschools.org/batcheller-elementary-schoo
 l/calendar/5834873/special-meeting
DTSTART:20240424T003000Z
DTEND:20240424T013000Z
END:VEVENT
END:VCALENDAR
