BEGIN:VCALENDAR
VERSION:2.0
PRODID:SchoolNow
CALSCALE:GREGORIAN
BEGIN:VEVENT
UID:c65bf6a2-6d9b-11e9-958e-1266ba361dd0
DTSTAMP:20190503T122401Z
SUMMARY:Family Paint Night
URL;VALUE=URI:https://www.winchesterschools.org/central-office/calendar/198
 1281/family-paint-night
DTSTART;VALUE=DATE:20190502
DTEND;VALUE=DATE:20190503
END:VEVENT
END:VCALENDAR
