BEGIN:VCALENDAR
VERSION:2.0
PRODID:SchoolNow
CALSCALE:GREGORIAN
BEGIN:VEVENT
UID:4ae893d8-6d9e-11e9-bfb6-0a04b8404f64
DTSTAMP:20190503T122344Z
SUMMARY:1/2 day Students-Staff Development
URL;VALUE=URI:https://www.winchesterschools.org/central-office/calendar/198
 1310/1-2-day-students-staff-development
DTSTART;VALUE=DATE:20190508
DTEND;VALUE=DATE:20190509
END:VEVENT
END:VCALENDAR
