BEGIN:VCALENDAR
VERSION:2.0
PRODID:SchoolNow
CALSCALE:GREGORIAN
BEGIN:VEVENT
UID:579f01f6-6d9f-11e9-8172-124f4db5b69c
DTSTAMP:20190503T123114Z
SUMMARY:Special Meeting
LOCATION:Town Hall - 3rd floor conference room
URL;VALUE=URI:https://www.winchesterschools.org/central-office/calendar/198
 1313/special-meeting
DTSTART:20190517T120000Z
DTEND:20190517T130000Z
END:VEVENT
END:VCALENDAR
