BEGIN:VCALENDAR
VERSION:2.0
PRODID:SchoolNow
CALSCALE:GREGORIAN
BEGIN:VEVENT
UID:7f8d3638-6d9f-11e9-98e8-124f4db5b69c
DTSTAMP:20190503T123221Z
SUMMARY:Special Meeting
LOCATION:NWCCC - Joyner Bld - Room 134
URL;VALUE=URI:https://www.winchesterschools.org/central-office/calendar/198
 1314/special-meeting
DTSTART:20190522T220000Z
DTEND:20190523T000000Z
END:VEVENT
END:VCALENDAR
