BEGIN:VCALENDAR
VERSION:2.0
PRODID:SchoolNow
CALSCALE:GREGORIAN
BEGIN:VEVENT
UID:9986ee58-6d9f-11e9-8b5f-124f4db5b69c
DTSTAMP:20190503T123305Z
SUMMARY:Memorial Day
URL;VALUE=URI:https://www.winchesterschools.org/central-office/calendar/198
 1315/memorial-day
DTSTART;VALUE=DATE:20190527
DTEND;VALUE=DATE:20190528
END:VEVENT
END:VCALENDAR
