BEGIN:VCALENDAR
VERSION:2.0
PRODID:SchoolNow
CALSCALE:GREGORIAN
BEGIN:VEVENT
UID:bb4e0b3e-6d9f-11e9-9b35-124f4db5b69c
DTSTAMP:20190910T151959Z
SUMMARY:Committee Meetings
LOCATION:Pearson School
URL;VALUE=URI:https://www.winchesterschools.org/central-office/calendar/198
 1316/committee-meetings
DTSTART:20190528T223000Z
DTEND:20190529T010000Z
END:VEVENT
END:VCALENDAR
