BEGIN:VCALENDAR
VERSION:2.0
PRODID:SchoolNow
CALSCALE:GREGORIAN
BEGIN:VEVENT
UID:d2bbd880-6dab-11e9-ae87-12a1a1a9da78
DTSTAMP:20190503T140035Z
SUMMARY:PTO Meeting
LOCATION:Pearson School - Library
URL;VALUE=URI:https://www.winchesterschools.org/central-office/calendar/198
 1319/pto-meeting
DTSTART;VALUE=DATE:20190610
DTEND;VALUE=DATE:20190611
END:VEVENT
END:VCALENDAR
