BEGIN:VCALENDAR
VERSION:2.0
PRODID:SchoolNow
CALSCALE:GREGORIAN
BEGIN:VEVENT
UID:3597dcce-6dac-11e9-a002-12711cfbd87c
DTSTAMP:20190503T140321Z
SUMMARY:BOE Regular Meeting
LOCATION:Town Hall - Hicks Room
URL;VALUE=URI:https://www.winchesterschools.org/central-office/calendar/198
 1320/boe-regular-meeting
DTSTART:20190611T230000Z
DTEND:20190612T000000Z
END:VEVENT
END:VCALENDAR
