BEGIN:VCALENDAR
VERSION:2.0
PRODID:SchoolNow
CALSCALE:GREGORIAN
BEGIN:VEVENT
UID:f23d6506-6dac-11e9-acf9-0ab11e704d42
DTSTAMP:20190503T140837Z
SUMMARY:1/2 Last Day - Students
URL;VALUE=URI:https://www.winchesterschools.org/central-office/calendar/198
 1324/1-2-last-day-students
DTSTART;VALUE=DATE:20190614
DTEND;VALUE=DATE:20190615
END:VEVENT
END:VCALENDAR
