BEGIN:VCALENDAR
VERSION:2.0
PRODID:SchoolNow
CALSCALE:GREGORIAN
BEGIN:VEVENT
UID:17398dbc-6dad-11e9-8a10-12a1a1a9da78
DTSTAMP:20190503T140939Z
SUMMARY:Teachers Work Day - Last Day for Staff
URL;VALUE=URI:https://www.winchesterschools.org/central-office/calendar/198
 1325/teachers-work-day-last-day-for-staff
DTSTART;VALUE=DATE:20190617
DTEND;VALUE=DATE:20190618
END:VEVENT
END:VCALENDAR
