BEGIN:VCALENDAR
VERSION:2.0
PRODID:SchoolNow
CALSCALE:GREGORIAN
BEGIN:VEVENT
UID:48a4bd7c-6dad-11e9-95c9-0a8b55a08b2e
DTSTAMP:20190503T141102Z
SUMMARY:New Teacher Orientation
URL;VALUE=URI:https://www.winchesterschools.org/central-office/calendar/198
 1326/new-teacher-orientation
DTSTART;VALUE=DATE:20190812
DTEND;VALUE=DATE:20190813
END:VEVENT
END:VCALENDAR
