BEGIN:VCALENDAR
VERSION:2.0
PRODID:SchoolNow
CALSCALE:GREGORIAN
BEGIN:VEVENT
UID:6977060e-6dad-11e9-9da8-0a5d7f590ed2
DTSTAMP:20190503T141157Z
SUMMARY:New Teacher Orientation
URL;VALUE=URI:https://www.winchesterschools.org/central-office/calendar/198
 1327/new-teacher-orientation
DTSTART;VALUE=DATE:20190813
DTEND;VALUE=DATE:20190814
END:VEVENT
END:VCALENDAR
