BEGIN:VCALENDAR
VERSION:2.0
PRODID:SchoolNow
CALSCALE:GREGORIAN
BEGIN:VEVENT
UID:23515fac-6dae-11e9-8a73-0a5d7f590ed2
DTSTAMP:20190503T141709Z
SUMMARY:BOE Regular Meeting
LOCATION:Town Hall Hicks Room
URL;VALUE=URI:https://www.winchesterschools.org/central-office/calendar/198
 1328/boe-regular-meeting
DTSTART:20190813T230000Z
DTEND:20190814T000000Z
END:VEVENT
END:VCALENDAR
