BEGIN:VCALENDAR
VERSION:2.0
PRODID:SchoolNow
CALSCALE:GREGORIAN
BEGIN:VEVENT
UID:9c18e70c-6dae-11e9-b1a8-121597507220
DTSTAMP:20190503T142032Z
SUMMARY:Teacher Work Day - Teachers Return
URL;VALUE=URI:https://www.winchesterschools.org/central-office/calendar/198
 1329/teacher-work-day-teachers-return
DTSTART;VALUE=DATE:20190826
DTEND;VALUE=DATE:20190827
END:VEVENT
END:VCALENDAR
