BEGIN:VCALENDAR
VERSION:2.0
PRODID:SchoolNow
CALSCALE:GREGORIAN
BEGIN:VEVENT
UID:bfe1e81e-6dae-11e9-bcc3-0a5d7f590ed2
DTSTAMP:20190503T161615Z
SUMMARY:Staff Dev.
URL;VALUE=URI:https://www.winchesterschools.org/central-office/calendar/198
 1330/staff-dev
DTSTART;VALUE=DATE:20190827
DTEND;VALUE=DATE:20190828
END:VEVENT
END:VCALENDAR
