BEGIN:VCALENDAR
VERSION:2.0
PRODID:SchoolNow
CALSCALE:GREGORIAN
BEGIN:VEVENT
UID:aaab0556-6daf-11e9-bff1-12711cfbd87c
DTSTAMP:20190503T144200Z
SUMMARY:Labor Day
URL;VALUE=URI:https://www.winchesterschools.org/central-office/calendar/198
 1335/labor-day
DTSTART;VALUE=DATE:20190902
DTEND;VALUE=DATE:20190903
END:VEVENT
END:VCALENDAR
