BEGIN:VCALENDAR
VERSION:2.0
PRODID:SchoolNow
CALSCALE:GREGORIAN
BEGIN:VEVENT
UID:c766162c-6daf-11e9-b946-121597507220
DTSTAMP:20190503T142854Z
SUMMARY:Kindergarten 1st Full Day
URL;VALUE=URI:https://www.winchesterschools.org/central-office/calendar/198
 1336/kindergarten-1st-full-day
DTSTART;VALUE=DATE:20190903
DTEND;VALUE=DATE:20190904
END:VEVENT
END:VCALENDAR
