BEGIN:VCALENDAR
VERSION:2.0
PRODID:SchoolNow
CALSCALE:GREGORIAN
BEGIN:VEVENT
UID:0c4e82ba-6db0-11e9-a992-0a1d45415b0e
DTSTAMP:20190814T165721Z
SUMMARY:BOE Regular Meeting
LOCATION:Pearson School
URL;VALUE=URI:https://www.winchesterschools.org/central-office/calendar/198
 1337/boe-regular-meeting
DTSTART:20190910T230000Z
DTEND:20190911T000000Z
END:VEVENT
END:VCALENDAR
