BEGIN:VCALENDAR
VERSION:2.0
PRODID:SchoolNow
CALSCALE:GREGORIAN
BEGIN:VEVENT
UID:3b13a3e6-6db0-11e9-bdf8-0abdfddd1cf8
DTSTAMP:20190503T143208Z
SUMMARY:1/2 Day Students - Staff Dev.
URL;VALUE=URI:https://www.winchesterschools.org/central-office/calendar/198
 1338/1-2-day-students-staff-dev
DTSTART;VALUE=DATE:20190911
DTEND;VALUE=DATE:20190912
END:VEVENT
END:VCALENDAR
