BEGIN:VCALENDAR
VERSION:2.0
PRODID:SchoolNow
CALSCALE:GREGORIAN
BEGIN:VEVENT
UID:9addcd92-6db0-11e9-9e2a-0abdfddd1cf8
DTSTAMP:20190910T151424Z
SUMMARY:Committee Meetings
LOCATION:Pearson School
URL;VALUE=URI:https://www.winchesterschools.org/central-office/calendar/198
 1339/committee-meetings
DTSTART:20190924T223000Z
DTEND:20190925T010000Z
END:VEVENT
END:VCALENDAR
