BEGIN:VCALENDAR
VERSION:2.0
PRODID:SchoolNow
CALSCALE:GREGORIAN
BEGIN:VEVENT
UID:d1db365e-6db0-11e9-abff-1205b7065d80
DTSTAMP:20190503T143621Z
SUMMARY:BOE Regular Meeting
LOCATION:Town Hall Hicks Room
URL;VALUE=URI:https://www.winchesterschools.org/central-office/calendar/198
 1340/boe-regular-meeting
DTSTART:20191008T230000Z
DTEND:20191009T000000Z
END:VEVENT
END:VCALENDAR
