BEGIN:VCALENDAR
VERSION:2.0
PRODID:SchoolNow
CALSCALE:GREGORIAN
BEGIN:VEVENT
UID:30aa4148-6db1-11e9-9fe9-0a7be759254a
DTSTAMP:20190503T143900Z
SUMMARY:Columbus Day
URL;VALUE=URI:https://www.winchesterschools.org/central-office/calendar/198
 1342/columbus-day
DTSTART;VALUE=DATE:20191014
DTEND;VALUE=DATE:20191015
END:VEVENT
END:VCALENDAR
