BEGIN:VCALENDAR
VERSION:2.0
PRODID:SchoolNow
CALSCALE:GREGORIAN
BEGIN:VEVENT
UID:7a7d5558-6db1-11e9-a953-0a5d7f590ed2
DTSTAMP:20191028T235121Z
SUMMARY:Committee Meetings
LOCATION:Town Hall - Blue Room
URL;VALUE=URI:https://www.winchesterschools.org/central-office/calendar/198
 1343/committee-meetings
DTSTART:20191022T223000Z
DTEND:20191023T010000Z
END:VEVENT
END:VCALENDAR
