BEGIN:VCALENDAR
VERSION:2.0
PRODID:SchoolNow
CALSCALE:GREGORIAN
BEGIN:VEVENT
UID:27ba339c-a4b4-11e9-87d4-0ab1d296acde
DTSTAMP:20190712T145026Z
SUMMARY:Teacher Work Day
URL;VALUE=URI:https://www.winchesterschools.org/central-office/calendar/203
 1331/teacher-work-day
DTSTART;VALUE=DATE:20190826
DTEND;VALUE=DATE:20190828
END:VEVENT
END:VCALENDAR
