BEGIN:VCALENDAR
VERSION:2.0
PRODID:SchoolNow
CALSCALE:GREGORIAN
BEGIN:VEVENT
UID:fb10d73c-a4b4-11e9-9815-0a345f7bc956
DTSTAMP:20190712T145442Z
SUMMARY:Students Return - Full Day
LOCATION:All Schools
URL;VALUE=URI:https://www.winchesterschools.org/central-office/calendar/203
 1339/students-return-full-day
DTSTART;VALUE=DATE:20190828
DTEND;VALUE=DATE:20190829
END:VEVENT
END:VCALENDAR
