BEGIN:VCALENDAR
VERSION:2.0
PRODID:SchoolNow
CALSCALE:GREGORIAN
BEGIN:VEVENT
UID:7655c89e-a4b5-11e9-b6ef-0a345f7bc956
DTSTAMP:20190712T145809Z
SUMMARY:Kindergarten Screening Assessments
LOCATION:Batcheller School
URL;VALUE=URI:https://www.winchesterschools.org/central-office/calendar/203
 1346/kindergarten-screening-assessments
DTSTART;VALUE=DATE:20190828
DTEND;VALUE=DATE:20190831
END:VEVENT
END:VCALENDAR
