BEGIN:VCALENDAR
VERSION:2.0
PRODID:SchoolNow
CALSCALE:GREGORIAN
BEGIN:VEVENT
UID:0dca99d8-d298-11e9-b25d-122662700122
DTSTAMP:20190909T011432Z
SUMMARY:PTO Meeting
LOCATION:Pearson School - Library
URL;VALUE=URI:https://www.winchesterschools.org/central-office/calendar/208
 6848/pto-meeting
DTSTART:20190924T214500Z
DTEND:20190925T035900Z
END:VEVENT
END:VCALENDAR
