BEGIN:VCALENDAR
VERSION:2.0
PRODID:SchoolNow
CALSCALE:GREGORIAN
BEGIN:VEVENT
UID:3e0a5f4a-ea2e-11e9-bda1-12d45e688dfe
DTSTAMP:20191009T004634Z
SUMMARY:Committee Meetings
LOCATION:Town Hall - Blue Room
URL;VALUE=URI:https://www.winchesterschools.org/central-office/calendar/211
 7491/committee-meetings
DTSTART:20190528T213000Z
DTEND:20190529T010000Z
END:VEVENT
END:VCALENDAR
