BEGIN:VCALENDAR
VERSION:2.0
PRODID:SchoolNow
CALSCALE:GREGORIAN
BEGIN:VEVENT
UID:872b1a1c-1dd6-11ea-9f1a-0a44137a1549
DTSTAMP:20191213T182941Z
SUMMARY:BOE Regular Meeting
LOCATION:Town Hall - Hicks Room
URL;VALUE=URI:https://www.winchesterschools.org/central-office/calendar/215
 9899/boe-regular-meeting
DTSTART:20190514T220000Z
DTEND:20190514T233000Z
END:VEVENT
END:VCALENDAR
