BEGIN:VCALENDAR
VERSION:2.0
PRODID:SchoolNow
CALSCALE:GREGORIAN
BEGIN:VEVENT
UID:0b61363c-b365-11ed-8b9d-0221aecb78f9
DTSTAMP:20230223T103008Z
SUMMARY:2-Hour Delay
URL;VALUE=URI:https://www.winchesterschools.org/central-office/calendar/377
 0284/2-hour-delay
DTSTART;VALUE=DATE:20230223
DTEND;VALUE=DATE:20230224
END:VEVENT
END:VCALENDAR
