BEGIN:VCALENDAR
VERSION:2.0
PRODID:SchoolNow
CALSCALE:GREGORIAN
BEGIN:VEVENT
UID:ec55dea4-b766-11ed-be9b-0ae84ceaf2d3
DTSTAMP:20230228T125417Z
SUMMARY:Snow Day-School Closed
URL;VALUE=URI:https://www.winchesterschools.org/central-office/calendar/379
 4077/closed-snow-day
DTSTART;VALUE=DATE:20230228
DTEND;VALUE=DATE:20230301
END:VEVENT
END:VCALENDAR
