BEGIN:VCALENDAR
VERSION:2.0
PRODID:SchoolNow
CALSCALE:GREGORIAN
BEGIN:VEVENT
UID:3fb4674c-bd54-11ef-a753-0a58a9feac02
DTSTAMP:20241218T152501Z
SUMMARY:Regular Board of Education Meeting
LOCATION:Town Hall – Hicks Room
URL;VALUE=URI:https://www.winchesterschools.org/central-office/calendar/719
 1347/regular-board-of-education-meeting
DTSTART:20250610T230000Z
DTEND:20250611T000000Z
END:VEVENT
END:VCALENDAR
