BEGIN:VCALENDAR
VERSION:2.0
PRODID:SchoolNow
CALSCALE:GREGORIAN
BEGIN:VEVENT
UID:5f997498-bd55-11ef-b075-0a58a9feac02
DTSTAMP:20241218T153304Z
SUMMARY:Regular Education Meeting
LOCATION:Town Hall – Hicks Room
URL;VALUE=URI:https://www.winchesterschools.org/central-office/calendar/719
 1360/regular-education-meeting
DTSTART:20251014T230000Z
DTEND:20251015T000000Z
END:VEVENT
END:VCALENDAR
