BEGIN:VCALENDAR
VERSION:2.0
PRODID:SchoolNow
CALSCALE:GREGORIAN
BEGIN:VEVENT
UID:80464482-bd55-11ef-a7eb-0a58a9feac02
DTSTAMP:20241218T153359Z
SUMMARY:Regular Board of Education Meeting
LOCATION:Town Hall – Hicks Room
URL;VALUE=URI:https://www.winchesterschools.org/central-office/calendar/719
 1365/regular-board-of-education-meeting
DTSTART:20251112T000000Z
DTEND:20251112T010000Z
END:VEVENT
END:VCALENDAR
