BEGIN:VCALENDAR
VERSION:2.0
PRODID:SchoolNow
CALSCALE:GREGORIAN
BEGIN:VEVENT
UID:09b4b1b2-bd57-11ef-8ae6-0a58a9feac02
DTSTAMP:20241218T154459Z
SUMMARY:Committee Meetings
LOCATION:Hinsdale School
URL;VALUE=URI:https://www.winchesterschools.org/central-office/calendar/719
 1395/committee-meetings
DTSTART:20250422T223000Z
DTEND:20250422T233000Z
END:VEVENT
END:VCALENDAR
