BEGIN:VCALENDAR
VERSION:2.0
PRODID:SchoolNow
CALSCALE:GREGORIAN
BEGIN:VEVENT
UID:314546ce-bd57-11ef-8dbd-0a58a9feac02
DTSTAMP:20241218T154852Z
SUMMARY:Committee Meetings
LOCATION:Hinsdale School
URL;VALUE=URI:https://www.winchesterschools.org/central-office/calendar/719
 1400/committee-meetings
DTSTART:20251028T223000Z
DTEND:20251028T233000Z
END:VEVENT
END:VCALENDAR
