BEGIN:VCALENDAR
VERSION:2.0
PRODID:SchoolNow
CALSCALE:GREGORIAN
BEGIN:VEVENT
UID:90a7c128-de81-11ef-bdef-0ed82ff877e7
DTSTAMP:20250129T204233Z
SUMMARY:Spring Break - No School
URL;VALUE=URI:https://www.winchesterschools.org/central-office/calendar/739
 3872/holiday-recess-no-school-clone
DTSTART;VALUE=DATE:20250414
DTEND;VALUE=DATE:20250419
END:VEVENT
END:VCALENDAR
