BEGIN:VCALENDAR
VERSION:2.0
PRODID:SchoolNow
CALSCALE:GREGORIAN
BEGIN:VEVENT
UID:f385ee12-de83-11ef-a0ab-0a58a9feac02
DTSTAMP:20250129T205937Z
SUMMARY:Staff Development
URL;VALUE=URI:https://www.winchesterschools.org/central-office/calendar/739
 3898/staff-development-clone
DTSTART:20250825T123000Z
DTEND:20250826T190000Z
END:VEVENT
END:VCALENDAR
