BEGIN:VCALENDAR
VERSION:2.0
PRODID:SchoolNow
CALSCALE:GREGORIAN
BEGIN:VEVENT
UID:4cec8f1a-de84-11ef-8e7e-02dec7c585f9
DTSTAMP:20250129T210441Z
SUMMARY:Hinsdale Students Return
URL;VALUE=URI:https://www.winchesterschools.org/central-office/calendar/739
 3902/hinsdale-students-return-clone
DTSTART:20250827T123500Z
DTEND:20250827T191000Z
END:VEVENT
END:VCALENDAR
