BEGIN:VCALENDAR
VERSION:2.0
PRODID:SchoolNow
CALSCALE:GREGORIAN
BEGIN:VEVENT
UID:8ea24260-de84-11ef-9e83-0a58a9feac02
DTSTAMP:20250129T210358Z
SUMMARY:Pearson Students Return
URL;VALUE=URI:https://www.winchesterschools.org/central-office/calendar/739
 3905/pearson-students-return-clone
DTSTART:20250827T122500Z
DTEND:20250827T190000Z
END:VEVENT
END:VCALENDAR
