BEGIN:VCALENDAR
VERSION:2.0
PRODID:SchoolNow
CALSCALE:GREGORIAN
BEGIN:VEVENT
UID:d14f9554-de84-11ef-977e-0e3618a2feb3
DTSTAMP:20250129T210550Z
SUMMARY:Labor Day - No School
URL;VALUE=URI:https://www.winchesterschools.org/central-office/calendar/739
 4864/labor-day-no-school-clone
DTSTART;VALUE=DATE:20250901
DTEND;VALUE=DATE:20250902
END:VEVENT
END:VCALENDAR
