BEGIN:VCALENDAR
VERSION:2.0
PRODID:SchoolNow
CALSCALE:GREGORIAN
BEGIN:VEVENT
UID:f336c980-de84-11ef-9d1d-0a58a9feac02
DTSTAMP:20250129T210646Z
SUMMARY:First Day for Pre-K and K
URL;VALUE=URI:https://www.winchesterschools.org/central-office/calendar/739
 4921/first-day-for-pre-k-and-k-clone
DTSTART:20250902T123500Z
DTEND:20250902T191000Z
END:VEVENT
END:VCALENDAR
