BEGIN:VCALENDAR
VERSION:2.0
PRODID:SchoolNow
CALSCALE:GREGORIAN
BEGIN:VEVENT
UID:0ad350ea-de85-11ef-b270-0a58a9feac02
DTSTAMP:20250129T210726Z
SUMMARY:Half Day - Staff Development
URL;VALUE=URI:https://www.winchesterschools.org/central-office/calendar/739
 4924/half-day-staff-development-clone-clone-clone
DTSTART:20250917T122500Z
DTEND:20250917T170000Z
END:VEVENT
END:VCALENDAR
