BEGIN:VCALENDAR
VERSION:2.0
PRODID:SchoolNow
CALSCALE:GREGORIAN
BEGIN:VEVENT
UID:26b5dda0-de85-11ef-9620-0a58a9feac02
DTSTAMP:20250129T210813Z
SUMMARY:Half Day - Staff Development
URL;VALUE=URI:https://www.winchesterschools.org/central-office/calendar/739
 4927/half-day-staff-development-clone-clone-clone
DTSTART:20250917T123500Z
DTEND:20250917T171000Z
END:VEVENT
END:VCALENDAR
