BEGIN:VCALENDAR
VERSION:2.0
PRODID:SchoolNow
CALSCALE:GREGORIAN
BEGIN:VEVENT
UID:4808cc92-de85-11ef-93f9-0a58a9feac02
DTSTAMP:20250129T210909Z
SUMMARY:Half Day - Staff Development
URL;VALUE=URI:https://www.winchesterschools.org/central-office/calendar/739
 4933/half-day-staff-development-clone-clone-clone-clone
DTSTART:20251008T122500Z
DTEND:20251008T170000Z
END:VEVENT
END:VCALENDAR
