BEGIN:VCALENDAR
VERSION:2.0
PRODID:SchoolNow
CALSCALE:GREGORIAN
BEGIN:VEVENT
UID:71307e8a-de85-11ef-b8f3-0a58a9feac02
DTSTAMP:20251029T182035Z
SUMMARY:Staff Development - No School
URL;VALUE=URI:https://www.winchesterschools.org/central-office/calendar/739
 4940/staff-development-clone-clone
DTSTART;VALUE=DATE:20251104
DTEND;VALUE=DATE:20251105
END:VEVENT
END:VCALENDAR
