BEGIN:VCALENDAR
VERSION:2.0
PRODID:SchoolNow
CALSCALE:GREGORIAN
BEGIN:VEVENT
UID:96d39064-de85-11ef-8ba7-0a58a9feac02
DTSTAMP:20250129T211121Z
SUMMARY:Report Cards Issued
URL;VALUE=URI:https://www.winchesterschools.org/central-office/calendar/739
 5007/report-cards-issued-clone-clone
DTSTART;VALUE=DATE:20251121
DTEND;VALUE=DATE:20251122
END:VEVENT
END:VCALENDAR
