BEGIN:VCALENDAR
VERSION:2.0
PRODID:SchoolNow
CALSCALE:GREGORIAN
BEGIN:VEVENT
UID:af2debe6-de85-11ef-9b1f-0a58a9feac02
DTSTAMP:20250129T211202Z
SUMMARY:Thanksgiving Recess - No School
URL;VALUE=URI:https://www.winchesterschools.org/central-office/calendar/739
 5011/indigenous-peoples-day-no-school-clone-clone
DTSTART;VALUE=DATE:20251126
DTEND;VALUE=DATE:20251129
END:VEVENT
END:VCALENDAR
