BEGIN:VCALENDAR
VERSION:2.0
PRODID:SchoolNow
CALSCALE:GREGORIAN
BEGIN:VEVENT
UID:0ae34544-de86-11ef-ae70-0a58a9feac02
DTSTAMP:20250129T211436Z
SUMMARY:Half Day
URL;VALUE=URI:https://www.winchesterschools.org/central-office/calendar/739
 5024/half-day-staff-development-clone-clone-clone-clone-clone-clone
DTSTART:20251223T133500Z
DTEND:20251223T181000Z
END:VEVENT
END:VCALENDAR
